BEGIN:VCALENDAR
VERSION:2.0
PRODID:-//Spirits and Spirits - ECPv6.15.20//NONSGML v1.0//EN
CALSCALE:GREGORIAN
METHOD:PUBLISH
X-ORIGINAL-URL:https://familypastexpert.com
X-WR-CALDESC:Events for Spirits and Spirits
REFRESH-INTERVAL;VALUE=DURATION:PT1H
X-Robots-Tag:noindex
X-PUBLISHED-TTL:PT1H
BEGIN:VTIMEZONE
TZID:America/Chicago
BEGIN:DAYLIGHT
TZOFFSETFROM:-0600
TZOFFSETTO:-0500
TZNAME:CDT
DTSTART:20250309T080000
END:DAYLIGHT
BEGIN:STANDARD
TZOFFSETFROM:-0500
TZOFFSETTO:-0600
TZNAME:CST
DTSTART:20251102T070000
END:STANDARD
BEGIN:DAYLIGHT
TZOFFSETFROM:-0600
TZOFFSETTO:-0500
TZNAME:CDT
DTSTART:20260308T080000
END:DAYLIGHT
BEGIN:STANDARD
TZOFFSETFROM:-0500
TZOFFSETTO:-0600
TZNAME:CST
DTSTART:20261101T070000
END:STANDARD
BEGIN:DAYLIGHT
TZOFFSETFROM:-0600
TZOFFSETTO:-0500
TZNAME:CDT
DTSTART:20270314T080000
END:DAYLIGHT
BEGIN:STANDARD
TZOFFSETFROM:-0500
TZOFFSETTO:-0600
TZNAME:CST
DTSTART:20271107T070000
END:STANDARD
END:VTIMEZONE
BEGIN:VEVENT
DTSTART;TZID=America/Chicago:20260214T000000
DTEND;TZID=America/Chicago:20260214T235959
DTSTAMP:20260424T044454
CREATED:20250106T200404Z
LAST-MODIFIED:20250106T200404Z
UID:36155-1771027200-1771113599@familypastexpert.com
SUMMARY:Frederick Wilhelm Aschbrenner born 14 Feb 1839 (187 years ago)
DESCRIPTION:
URL:https://familypastexpert.com/event/frederick-wilhelm-aschbrenner-born-14-feb-1839-187-years-ago/
CATEGORIES:Birthday
ATTACH;FMTTYPE=image/jpeg:https://familypastexpert.com/wp-content/uploads/2025/01/Achbrenner_Frederick_Wilhelm-NZbjP1.tmp_.jpg
END:VEVENT
BEGIN:VEVENT
DTSTART;TZID=America/Chicago:20260214T000000
DTEND;TZID=America/Chicago:20260214T235959
DTSTAMP:20260424T044454
CREATED:20250106T200517Z
LAST-MODIFIED:20250106T200517Z
UID:36169-1771027200-1771113599@familypastexpert.com
SUMMARY:Halvor Stemson born 14 Feb 1835 (191 years ago)
DESCRIPTION:
URL:https://familypastexpert.com/event/halvor-stemson-born-14-feb-1835-191-years-ago/
CATEGORIES:Birthday
ATTACH;FMTTYPE=image/jpeg:https://familypastexpert.com/wp-content/uploads/2025/01/HalvorStemsonOutside-nRkv77.tmp_.jpg
END:VEVENT
END:VCALENDAR