BEGIN:VCALENDAR
VERSION:2.0
PRODID:-//Spirits and Spirits - ECPv6.15.20//NONSGML v1.0//EN
CALSCALE:GREGORIAN
METHOD:PUBLISH
X-WR-CALNAME:Spirits and Spirits
X-ORIGINAL-URL:https://familypastexpert.com
X-WR-CALDESC:Events for Spirits and Spirits
REFRESH-INTERVAL;VALUE=DURATION:PT1H
X-Robots-Tag:noindex
X-PUBLISHED-TTL:PT1H
BEGIN:VTIMEZONE
TZID:America/Chicago
BEGIN:DAYLIGHT
TZOFFSETFROM:-0600
TZOFFSETTO:-0500
TZNAME:CDT
DTSTART:20240310T080000
END:DAYLIGHT
BEGIN:STANDARD
TZOFFSETFROM:-0500
TZOFFSETTO:-0600
TZNAME:CST
DTSTART:20241103T070000
END:STANDARD
BEGIN:DAYLIGHT
TZOFFSETFROM:-0600
TZOFFSETTO:-0500
TZNAME:CDT
DTSTART:20250309T080000
END:DAYLIGHT
BEGIN:STANDARD
TZOFFSETFROM:-0500
TZOFFSETTO:-0600
TZNAME:CST
DTSTART:20251102T070000
END:STANDARD
BEGIN:DAYLIGHT
TZOFFSETFROM:-0600
TZOFFSETTO:-0500
TZNAME:CDT
DTSTART:20260308T080000
END:DAYLIGHT
BEGIN:STANDARD
TZOFFSETFROM:-0500
TZOFFSETTO:-0600
TZNAME:CST
DTSTART:20261101T070000
END:STANDARD
BEGIN:DAYLIGHT
TZOFFSETFROM:-0600
TZOFFSETTO:-0500
TZNAME:CDT
DTSTART:20270314T080000
END:DAYLIGHT
BEGIN:STANDARD
TZOFFSETFROM:-0500
TZOFFSETTO:-0600
TZNAME:CST
DTSTART:20271107T070000
END:STANDARD
END:VTIMEZONE
BEGIN:VEVENT
DTSTART;TZID=America/Chicago:20260120T000000
DTEND;TZID=America/Chicago:20260120T235959
DTSTAMP:20260425T182326
CREATED:20250106T200348Z
LAST-MODIFIED:20250106T200348Z
UID:36151-1768867200-1768953599@familypastexpert.com
SUMMARY:Johann Friedrich August Krüger born 20 Jan 1841 (185 years ago)
DESCRIPTION:
URL:https://familypastexpert.com/event/johann-friedrich-august-kruger-born-20-jan-1841-185-years-ago/
CATEGORIES:Birthday
END:VEVENT
BEGIN:VEVENT
DTSTART;TZID=America/Chicago:20260118T000000
DTEND;TZID=America/Chicago:20260118T235959
DTSTAMP:20260425T182326
CREATED:20250106T200552Z
LAST-MODIFIED:20250106T200552Z
UID:36177-1768694400-1768780799@familypastexpert.com
SUMMARY:Samual Christopher McCall born 18 Jan 1833 (193 years ago)
DESCRIPTION:
URL:https://familypastexpert.com/event/samual-christopher-mccall-born-18-jan-1833-193-years-ago/
CATEGORIES:Birthday
ATTACH;FMTTYPE=image/jpeg:https://familypastexpert.com/wp-content/uploads/2017/01/McCall_SamualChristopher-enhanced-1.jpg
END:VEVENT
BEGIN:VEVENT
DTSTART;TZID=America/Chicago:20251231T000000
DTEND;TZID=America/Chicago:20251231T235959
DTSTAMP:20260425T182326
CREATED:20250106T171322Z
LAST-MODIFIED:20250106T171322Z
UID:35953-1767139200-1767225599@familypastexpert.com
SUMMARY:Donna born 31 Dec
DESCRIPTION:
URL:https://familypastexpert.com/event/donna-born-31-dec-3/
CATEGORIES:Birthday
END:VEVENT
BEGIN:VEVENT
DTSTART;TZID=America/Chicago:20251228T000000
DTEND;TZID=America/Chicago:20251228T235959
DTSTAMP:20260425T182326
CREATED:20250106T171313Z
LAST-MODIFIED:20250106T171313Z
UID:35951-1766880000-1766966399@familypastexpert.com
SUMMARY:Joel born 28 Dec
DESCRIPTION:
URL:https://familypastexpert.com/event/joel-born-28-dec-3/
CATEGORIES:Birthday
END:VEVENT
BEGIN:VEVENT
DTSTART;TZID=America/Chicago:20251226T000000
DTEND;TZID=America/Chicago:20251226T235959
DTSTAMP:20260425T182326
CREATED:20250106T195505Z
LAST-MODIFIED:20250106T195505Z
UID:36123-1766707200-1766793599@familypastexpert.com
SUMMARY:Albert Aveldo Phillips born 26 Dec 1841 (184 years ago)
DESCRIPTION:
URL:https://familypastexpert.com/event/albert-aveldo-phillips-born-26-dec-1841-184-years-ago/
CATEGORIES:Birthday
END:VEVENT
BEGIN:VEVENT
DTSTART;TZID=America/Chicago:20251217T000000
DTEND;TZID=America/Chicago:20251217T235959
DTSTAMP:20260425T182326
CREATED:20250106T195915Z
LAST-MODIFIED:20250106T195915Z
UID:36139-1765929600-1766015999@familypastexpert.com
SUMMARY:Guttorm Hillson Wenaas born 17 Dec 1828 (197 years ago)
DESCRIPTION:
URL:https://familypastexpert.com/event/guttorm-hillson-wenaas-born-17-dec-1828-197-years-ago/
CATEGORIES:Birthday
ATTACH;FMTTYPE=image/jpeg:https://familypastexpert.com/wp-content/uploads/2017/12/HillsonGuttormWenaas-Adjusted-1.jpg
END:VEVENT
BEGIN:VEVENT
DTSTART;TZID=America/Chicago:20251217T000000
DTEND;TZID=America/Chicago:20251217T235959
DTSTAMP:20260425T182326
CREATED:20250106T171106Z
LAST-MODIFIED:20250106T171106Z
UID:35944-1765929600-1766015999@familypastexpert.com
SUMMARY:Rayn born 17 Dec
DESCRIPTION:
URL:https://familypastexpert.com/event/rayn-born-17-dec-3/
CATEGORIES:Birthday
END:VEVENT
BEGIN:VEVENT
DTSTART;TZID=America/Chicago:20251214T000000
DTEND;TZID=America/Chicago:20251214T235959
DTSTAMP:20260425T182326
CREATED:20250106T171101Z
LAST-MODIFIED:20250106T171101Z
UID:35942-1765670400-1765756799@familypastexpert.com
SUMMARY:Nikki born 14 Dec
DESCRIPTION:
URL:https://familypastexpert.com/event/nikki-born-14-dec-3/
CATEGORIES:Birthday
END:VEVENT
BEGIN:VEVENT
DTSTART;TZID=America/Chicago:20251213T000000
DTEND;TZID=America/Chicago:20251213T235959
DTSTAMP:20260425T182326
CREATED:20250106T202048Z
LAST-MODIFIED:20250106T202048Z
UID:36212-1765584000-1765670399@familypastexpert.com
SUMMARY:Elizabeth A. Linville born sometime around 1842 (about 185 years ago)
DESCRIPTION:
URL:https://familypastexpert.com/event/elizabeth-a-linville-born-sometime-around-1842-about-185-years-ago/
CATEGORIES:Birthday
END:VEVENT
BEGIN:VEVENT
DTSTART;TZID=America/Chicago:20251213T000000
DTEND;TZID=America/Chicago:20251213T235959
DTSTAMP:20260425T182326
CREATED:20250106T200556Z
LAST-MODIFIED:20250106T200556Z
UID:36178-1765584000-1765670399@familypastexpert.com
SUMMARY:Elizabeth A. Linville born sometime around 1842 (about 184 years ago)
DESCRIPTION:
URL:https://familypastexpert.com/event/elizabeth-a-linville-born-sometime-around-1842-about-184-years-ago/
CATEGORIES:Birthday
END:VEVENT
BEGIN:VEVENT
DTSTART;TZID=America/Chicago:20251213T000000
DTEND;TZID=America/Chicago:20251213T235959
DTSTAMP:20260425T182326
CREATED:20250106T200116Z
LAST-MODIFIED:20250106T200116Z
UID:36144-1765584000-1765670399@familypastexpert.com
SUMMARY:Elizabeth A. Linville born sometime around 1842 (about 183 years ago)
DESCRIPTION:
URL:https://familypastexpert.com/event/elizabeth-a-linville-born-sometime-around-1842-about-183-years-ago/
CATEGORIES:Birthday
END:VEVENT
BEGIN:VEVENT
DTSTART;TZID=America/Chicago:20251207T000000
DTEND;TZID=America/Chicago:20251207T235959
DTSTAMP:20260425T182326
CREATED:20250106T173947Z
LAST-MODIFIED:20250106T173947Z
UID:36038-1765065600-1765151999@familypastexpert.com
SUMMARY:Floyd Boyce Phillips born 07 Dec 1891 (134 years ago)
DESCRIPTION:
URL:https://familypastexpert.com/event/floyd-boyce-phillips-born-07-dec-1891-134-years-ago/
CATEGORIES:Birthday
ATTACH;FMTTYPE=image/jpeg:https://familypastexpert.com/wp-content/uploads/2023/04/Phillips_Floyd.jpg
END:VEVENT
BEGIN:VEVENT
DTSTART;TZID=America/Chicago:20251201T000000
DTEND;TZID=America/Chicago:20251201T235959
DTSTAMP:20260425T182326
CREATED:20250106T195909Z
LAST-MODIFIED:20250106T195909Z
UID:36137-1764547200-1764633599@familypastexpert.com
SUMMARY:Ole Knutson Aldahl born around Dec 1814 (211 years ago)
DESCRIPTION:
URL:https://familypastexpert.com/event/ole-knutson-aldahl-born-around-dec-1814-211-years-ago/
CATEGORIES:Birthday
END:VEVENT
BEGIN:VEVENT
DTSTART;TZID=America/Chicago:20251125T000000
DTEND;TZID=America/Chicago:20251125T235959
DTSTAMP:20260425T182326
CREATED:20250106T170856Z
LAST-MODIFIED:20250106T170856Z
UID:35935-1764028800-1764115199@familypastexpert.com
SUMMARY:Marvin born 25 Nov (65 years ago)
DESCRIPTION:
URL:https://familypastexpert.com/event/marvin-born-25-nov-65-years-ago/
CATEGORIES:Birthday
END:VEVENT
BEGIN:VEVENT
DTSTART;TZID=America/Chicago:20251124T000000
DTEND;TZID=America/Chicago:20251124T235959
DTSTAMP:20260425T182326
CREATED:20250106T173951Z
LAST-MODIFIED:20250106T173951Z
UID:36039-1763942400-1764028799@familypastexpert.com
SUMMARY:Lars Olson Aldahl born 24 Nov 1856 (169 years ago)
DESCRIPTION:
URL:https://familypastexpert.com/event/lars-olson-aldahl-born-24-nov-1856-169-years-ago/
CATEGORIES:Birthday
ATTACH;FMTTYPE=image/jpeg:https://familypastexpert.com/wp-content/uploads/2016/11/Aldahl_Lars-1.jpg
END:VEVENT
BEGIN:VEVENT
DTSTART;TZID=America/Chicago:20251124T000000
DTEND;TZID=America/Chicago:20251124T235959
DTSTAMP:20260425T182326
CREATED:20250106T171104Z
LAST-MODIFIED:20250106T171104Z
UID:35943-1763942400-1764028799@familypastexpert.com
SUMMARY:Aidan born 24 Nov
DESCRIPTION:
URL:https://familypastexpert.com/event/aidan-born-24-nov-3/
CATEGORIES:Birthday
END:VEVENT
BEGIN:VEVENT
DTSTART;TZID=America/Chicago:20251122T000000
DTEND;TZID=America/Chicago:20251122T235959
DTSTAMP:20260425T182327
CREATED:20250106T173938Z
LAST-MODIFIED:20250106T173938Z
UID:36036-1763769600-1763855999@familypastexpert.com
SUMMARY:Norman Arthur August Krueger born 22 Nov 1904 (121 years ago)
DESCRIPTION:
URL:https://familypastexpert.com/event/norman-arthur-august-krueger-born-22-nov-1904-121-years-ago/
CATEGORIES:Birthday
ATTACH;FMTTYPE=image/jpeg:https://familypastexpert.com/wp-content/uploads/2016/11/1922_CA_NormanHighSchoolGraduation-1.jpg
END:VEVENT
BEGIN:VEVENT
DTSTART;TZID=America/Chicago:20251119T000000
DTEND;TZID=America/Chicago:20251119T235959
DTSTAMP:20260425T182327
CREATED:20250106T170847Z
LAST-MODIFIED:20250106T170847Z
UID:35932-1763510400-1763596799@familypastexpert.com
SUMMARY:Matthew born 19 Nov
DESCRIPTION:
URL:https://familypastexpert.com/event/matthew-born-19-nov-3/
CATEGORIES:Birthday
END:VEVENT
BEGIN:VEVENT
DTSTART;TZID=America/Chicago:20251118T000000
DTEND;TZID=America/Chicago:20251118T235959
DTSTAMP:20260425T182327
CREATED:20250106T174357Z
LAST-MODIFIED:20250106T174357Z
UID:36047-1763424000-1763510399@familypastexpert.com
SUMMARY:Bernhard Richard R. Krueger born 18 Nov 1873 (152 years ago)
DESCRIPTION:
URL:https://familypastexpert.com/event/bernhard-richard-r-krueger-born-18-nov-1873-152-years-ago/
CATEGORIES:Birthday
ATTACH;FMTTYPE=image/jpeg:https://familypastexpert.com/wp-content/uploads/2016/11/BernhardKrueger-Alone-1.jpg
END:VEVENT
BEGIN:VEVENT
DTSTART;TZID=America/Chicago:20251111T000000
DTEND;TZID=America/Chicago:20251111T235959
DTSTAMP:20260425T182327
CREATED:20250106T195744Z
LAST-MODIFIED:20250106T195744Z
UID:36132-1762819200-1762905599@familypastexpert.com
SUMMARY:Björn Christianson Rukke born 11 Nov 1841 (184 years ago)
DESCRIPTION:
URL:https://familypastexpert.com/event/bjorn-christianson-rukke-born-11-nov-1841-184-years-ago/
CATEGORIES:Birthday
ATTACH;FMTTYPE=image/jpeg:https://familypastexpert.com/wp-content/uploads/2016/11/Christianson_Bjorn-JQK-1.jpg
END:VEVENT
BEGIN:VEVENT
DTSTART;TZID=America/Chicago:20251108T000000
DTEND;TZID=America/Chicago:20251108T235959
DTSTAMP:20260425T182327
CREATED:20250106T170922Z
LAST-MODIFIED:20250106T170922Z
UID:35938-1762560000-1762646399@familypastexpert.com
SUMMARY:Teresa born 8 Nov
DESCRIPTION:
URL:https://familypastexpert.com/event/teresa-born-8-nov-3/
CATEGORIES:Birthday
END:VEVENT
BEGIN:VEVENT
DTSTART;TZID=America/Chicago:20251108T000000
DTEND;TZID=America/Chicago:20251108T235959
DTSTAMP:20260425T182327
CREATED:20250106T170919Z
LAST-MODIFIED:20250106T170919Z
UID:35937-1762560000-1762646399@familypastexpert.com
SUMMARY:Dirk born 8 Nov
DESCRIPTION:
URL:https://familypastexpert.com/event/dirk-born-8-nov-3/
CATEGORIES:Birthday
END:VEVENT
BEGIN:VEVENT
DTSTART;TZID=America/Chicago:20251026T000000
DTEND;TZID=America/Chicago:20251026T235959
DTSTAMP:20260425T182327
CREATED:20250106T170925Z
LAST-MODIFIED:20250106T170925Z
UID:35939-1761436800-1761523199@familypastexpert.com
SUMMARY:Evan born 26 Oct
DESCRIPTION:
URL:https://familypastexpert.com/event/evan-born-26-oct-3/
CATEGORIES:Birthday
END:VEVENT
BEGIN:VEVENT
DTSTART;TZID=America/Chicago:20251023T000000
DTEND;TZID=America/Chicago:20251023T235959
DTSTAMP:20260425T182327
CREATED:20250106T170825Z
LAST-MODIFIED:20250106T170825Z
UID:35930-1761177600-1761263999@familypastexpert.com
SUMMARY:Easton born 23 Oct
DESCRIPTION:
URL:https://familypastexpert.com/event/easton-born-23-oct-3/
CATEGORIES:Birthday
END:VEVENT
BEGIN:VEVENT
DTSTART;TZID=America/Chicago:20251016T000000
DTEND;TZID=America/Chicago:20251016T235959
DTSTAMP:20260425T182327
CREATED:20250106T171306Z
LAST-MODIFIED:20250106T171306Z
UID:35949-1760572800-1760659199@familypastexpert.com
SUMMARY:Philip David Krueger born 16 Oct (35 years ago)
DESCRIPTION:
URL:https://familypastexpert.com/event/philip-david-krueger-born-16-oct-35-years-ago/
CATEGORIES:Birthday
ATTACH;FMTTYPE=image/jpeg:https://familypastexpert.com/wp-content/uploads/2017/07/1992-07-xx-PhilipDavidKrueger-1.jpg
END:VEVENT
BEGIN:VEVENT
DTSTART;TZID=America/Chicago:20251014T000000
DTEND;TZID=America/Chicago:20251014T235959
DTSTAMP:20260425T182327
CREATED:20250106T195712Z
LAST-MODIFIED:20250106T195712Z
UID:36127-1760400000-1760486399@familypastexpert.com
SUMMARY:George Leifheite Miller born 14 Oct 1830 (195 years ago)
DESCRIPTION:
URL:https://familypastexpert.com/event/george-leifheite-miller-born-14-oct-1830-195-years-ago/
CATEGORIES:Birthday
ATTACH;FMTTYPE=image/jpeg:https://familypastexpert.com/wp-content/uploads/2025/01/Miller_George_L-kOH5wf.tmp_.jpg
END:VEVENT
BEGIN:VEVENT
DTSTART;TZID=America/Chicago:20251014T000000
DTEND;TZID=America/Chicago:20251014T235959
DTSTAMP:20260425T182327
CREATED:20250106T173921Z
LAST-MODIFIED:20250106T173921Z
UID:36033-1760400000-1760486399@familypastexpert.com
SUMMARY:Bennett Nils Christianson born 14 Oct 1902 (123 years ago)
DESCRIPTION:
URL:https://familypastexpert.com/event/bennett-nils-christianson-born-14-oct-1902-123-years-ago/
CATEGORIES:Birthday
ATTACH;FMTTYPE=image/jpeg:https://familypastexpert.com/wp-content/uploads/2015/07/1920caBennett-1.jpg
END:VEVENT
BEGIN:VEVENT
DTSTART;TZID=America/Chicago:20251012T000000
DTEND;TZID=America/Chicago:20251012T235959
DTSTAMP:20260425T182327
CREATED:20250106T195500Z
LAST-MODIFIED:20250106T195500Z
UID:36122-1760227200-1760313599@familypastexpert.com
SUMMARY:Emilie Friedericke Luise Draeger born 12 Oct 1850 (175 years ago)
DESCRIPTION:
URL:https://familypastexpert.com/event/emilie-friedericke-luise-draeger-born-12-oct-1850-175-years-ago/
CATEGORIES:Birthday
ATTACH;FMTTYPE=image/jpeg:https://familypastexpert.com/wp-content/uploads/2017/10/EmilieDraegerFehlhaber-fromFamilyPortrait-enhanced-1.jpg
END:VEVENT
BEGIN:VEVENT
DTSTART;TZID=America/Chicago:20251012T000000
DTEND;TZID=America/Chicago:20251012T235959
DTSTAMP:20260425T182327
CREATED:20250106T195450Z
LAST-MODIFIED:20250106T195450Z
UID:36119-1760227200-1760313599@familypastexpert.com
SUMMARY:Bertha Auguste Henriette Kluender born 12 Oct 1848 (177 years ago)
DESCRIPTION:
URL:https://familypastexpert.com/event/bertha-auguste-henriette-kluender-born-12-oct-1848-177-years-ago/
CATEGORIES:Birthday
ATTACH;FMTTYPE=image/jpeg:https://familypastexpert.com/wp-content/uploads/2025/01/Kluender_Bertha_Aschbrenner-GQsQz4.tmp_.jpg
END:VEVENT
BEGIN:VEVENT
DTSTART;TZID=America/Chicago:20251003T000000
DTEND;TZID=America/Chicago:20251003T235959
DTSTAMP:20260425T182327
CREATED:20250106T195430Z
LAST-MODIFIED:20250106T195430Z
UID:36114-1759449600-1759535999@familypastexpert.com
SUMMARY:Augusta Baumann born 03 Oct 1840 (185 years ago)
DESCRIPTION:
URL:https://familypastexpert.com/event/augusta-baumann-born-03-oct-1840-185-years-ago/
CATEGORIES:Birthday
ATTACH;FMTTYPE=image/jpeg:https://familypastexpert.com/wp-content/uploads/2017/10/1880-United-States-Federal-Census-Johann-Krueger-1-scaled.jpg
END:VEVENT
END:VCALENDAR