BEGIN:VCALENDAR
VERSION:2.0
PRODID:-//Spirits and Spirits - ECPv6.15.20//NONSGML v1.0//EN
CALSCALE:GREGORIAN
METHOD:PUBLISH
X-ORIGINAL-URL:https://familypastexpert.com
X-WR-CALDESC:Events for Spirits and Spirits
REFRESH-INTERVAL;VALUE=DURATION:PT1H
X-Robots-Tag:noindex
X-PUBLISHED-TTL:PT1H
BEGIN:VTIMEZONE
TZID:America/Chicago
BEGIN:DAYLIGHT
TZOFFSETFROM:-0600
TZOFFSETTO:-0500
TZNAME:CDT
DTSTART:20250309T080000
END:DAYLIGHT
BEGIN:STANDARD
TZOFFSETFROM:-0500
TZOFFSETTO:-0600
TZNAME:CST
DTSTART:20251102T070000
END:STANDARD
BEGIN:DAYLIGHT
TZOFFSETFROM:-0600
TZOFFSETTO:-0500
TZNAME:CDT
DTSTART:20260308T080000
END:DAYLIGHT
BEGIN:STANDARD
TZOFFSETFROM:-0500
TZOFFSETTO:-0600
TZNAME:CST
DTSTART:20261101T070000
END:STANDARD
BEGIN:DAYLIGHT
TZOFFSETFROM:-0600
TZOFFSETTO:-0500
TZNAME:CDT
DTSTART:20270314T080000
END:DAYLIGHT
BEGIN:STANDARD
TZOFFSETFROM:-0500
TZOFFSETTO:-0600
TZNAME:CST
DTSTART:20271107T070000
END:STANDARD
END:VTIMEZONE
BEGIN:VEVENT
DTSTART;TZID=America/Chicago:20260204T000000
DTEND;TZID=America/Chicago:20260204T235959
DTSTAMP:20260420T011345
CREATED:20250106T175113Z
LAST-MODIFIED:20250106T175113Z
UID:36070-1770163200-1770249599@familypastexpert.com
SUMMARY:Harry Allen Lawrence Fawcett born 04 Feb 1872 (154 years ago)
DESCRIPTION:
URL:https://familypastexpert.com/event/harry-allen-lawrence-fawcett-born-04-feb-1872-154-years-ago/
CATEGORIES:Birthday
ATTACH;FMTTYPE=image/jpeg:https://familypastexpert.com/wp-content/uploads/2023/04/harry.jpg
END:VEVENT
BEGIN:VEVENT
DTSTART;TZID=America/Chicago:20260205T000000
DTEND;TZID=America/Chicago:20260205T235959
DTSTAMP:20260420T011345
CREATED:20250106T200445Z
LAST-MODIFIED:20250106T200445Z
UID:36162-1770249600-1770335999@familypastexpert.com
SUMMARY:Mary Jane Frost born 05 Feb 1825 (201 years ago)
DESCRIPTION:
URL:https://familypastexpert.com/event/mary-jane-frost-born-05-feb-1825-201-years-ago/
CATEGORIES:Birthday
END:VEVENT
BEGIN:VEVENT
DTSTART;TZID=America/Chicago:20260211T000000
DTEND;TZID=America/Chicago:20260211T235959
DTSTAMP:20260420T011346
CREATED:20250106T175228Z
LAST-MODIFIED:20250106T175228Z
UID:36074-1770768000-1770854399@familypastexpert.com
SUMMARY:Frieda H. Lemke born 11 Feb 1881 (145 years ago)
DESCRIPTION:
URL:https://familypastexpert.com/event/frieda-h-lemke-born-11-feb-1881-145-years-ago/
CATEGORIES:Birthday
ATTACH;FMTTYPE=image/jpeg:https://familypastexpert.com/wp-content/uploads/2020/07/Frieda-scaled-1.jpg
END:VEVENT
BEGIN:VEVENT
DTSTART;TZID=America/Chicago:20260211T000000
DTEND;TZID=America/Chicago:20260211T235959
DTSTAMP:20260420T011346
CREATED:20250106T200416Z
LAST-MODIFIED:20250106T200416Z
UID:36157-1770768000-1770854399@familypastexpert.com
SUMMARY:Carl F. Fehlhaber born 11 Feb 1845 (181 years ago)
DESCRIPTION:
URL:https://familypastexpert.com/event/carl-f-fehlhaber-born-11-feb-1845-181-years-ago/
CATEGORIES:Birthday
END:VEVENT
BEGIN:VEVENT
DTSTART;TZID=America/Chicago:20260212T000000
DTEND;TZID=America/Chicago:20260212T235959
DTSTAMP:20260420T011346
CREATED:20250106T172111Z
LAST-MODIFIED:20250106T172111Z
UID:35982-1770854400-1770940799@familypastexpert.com
SUMMARY:Brent born 12 Feb
DESCRIPTION:
URL:https://familypastexpert.com/event/brent-born-12-feb-4/
CATEGORIES:Birthday
END:VEVENT
BEGIN:VEVENT
DTSTART;TZID=America/Chicago:20260212T000000
DTEND;TZID=America/Chicago:20260212T235959
DTSTAMP:20260420T011346
CREATED:20250106T175419Z
LAST-MODIFIED:20250106T175419Z
UID:36077-1770854400-1770940799@familypastexpert.com
SUMMARY:Frank Palmer Miller born 12 Feb 1874 (152 years ago)
DESCRIPTION:
URL:https://familypastexpert.com/event/frank-palmer-miller-born-12-feb-1874-152-years-ago/
CATEGORIES:Birthday
ATTACH;FMTTYPE=image/jpeg:https://familypastexpert.com/wp-content/uploads/2018/02/Miller_Frank_Palmer-1.jpg
END:VEVENT
BEGIN:VEVENT
DTSTART;TZID=America/Chicago:20260214T000000
DTEND;TZID=America/Chicago:20260214T235959
DTSTAMP:20260420T011346
CREATED:20250106T200404Z
LAST-MODIFIED:20250106T200404Z
UID:36155-1771027200-1771113599@familypastexpert.com
SUMMARY:Frederick Wilhelm Aschbrenner born 14 Feb 1839 (187 years ago)
DESCRIPTION:
URL:https://familypastexpert.com/event/frederick-wilhelm-aschbrenner-born-14-feb-1839-187-years-ago/
CATEGORIES:Birthday
ATTACH;FMTTYPE=image/jpeg:https://familypastexpert.com/wp-content/uploads/2025/01/Achbrenner_Frederick_Wilhelm-NZbjP1.tmp_.jpg
END:VEVENT
BEGIN:VEVENT
DTSTART;TZID=America/Chicago:20260214T000000
DTEND;TZID=America/Chicago:20260214T235959
DTSTAMP:20260420T011346
CREATED:20250106T200517Z
LAST-MODIFIED:20250106T200517Z
UID:36169-1771027200-1771113599@familypastexpert.com
SUMMARY:Halvor Stemson born 14 Feb 1835 (191 years ago)
DESCRIPTION:
URL:https://familypastexpert.com/event/halvor-stemson-born-14-feb-1835-191-years-ago/
CATEGORIES:Birthday
ATTACH;FMTTYPE=image/jpeg:https://familypastexpert.com/wp-content/uploads/2025/01/HalvorStemsonOutside-nRkv77.tmp_.jpg
END:VEVENT
BEGIN:VEVENT
DTSTART;TZID=America/Chicago:20260222T000000
DTEND;TZID=America/Chicago:20260222T235959
DTSTAMP:20260420T011346
CREATED:20250106T200612Z
LAST-MODIFIED:20250106T200612Z
UID:36181-1771718400-1771804799@familypastexpert.com
SUMMARY:Jacob B. Meyer born 22 Feb 1836 (190 years ago)
DESCRIPTION:
URL:https://familypastexpert.com/event/jacob-b-meyer-born-22-feb-1836-190-years-ago/
CATEGORIES:Birthday
END:VEVENT
BEGIN:VEVENT
DTSTART;TZID=America/Chicago:20260223T000000
DTEND;TZID=America/Chicago:20260223T235959
DTSTAMP:20260420T011346
CREATED:20250106T200521Z
LAST-MODIFIED:20250106T200521Z
UID:36170-1771804800-1771891199@familypastexpert.com
SUMMARY:Birgit Nilsdtr Lostegaard born 23 Feb 1843 (183 years ago)
DESCRIPTION:
URL:https://familypastexpert.com/event/birgit-nilsdtr-lostegaard-born-23-feb-1843-183-years-ago/
CATEGORIES:Birthday
ATTACH;FMTTYPE=image/jpeg:https://familypastexpert.com/wp-content/uploads/2025/01/Lostegaard_Birgit_Stemson.jpg
END:VEVENT
END:VCALENDAR